BEGIN:VCALENDAR
VERSION:2.0
PRODID:-//Інститут луб&#039;яних культур - ECPv4.9.4//NONSGML v1.0//EN
CALSCALE:GREGORIAN
METHOD:PUBLISH
X-WR-CALNAME:Інститут луб&#039;яних культур
X-ORIGINAL-URL:https://ibc-naas.com
X-WR-CALDESC:Events for Інститут луб&#039;яних культур
BEGIN:VTIMEZONE
TZID:"Europe/Kiev"
BEGIN:DAYLIGHT
TZOFFSETFROM:+0200
TZOFFSETTO:+0300
TZNAME:EEST
DTSTART:20190331T010000
END:DAYLIGHT
BEGIN:STANDARD
TZOFFSETFROM:+0300
TZOFFSETTO:+0200
TZNAME:EET
DTSTART:20191027T010000
END:STANDARD
END:VTIMEZONE
BEGIN:VEVENT
DTSTART;VALUE=DATE:20190722
DTEND;VALUE=DATE:20190723
DTSTAMP:20260419T161030
CREATED:20190722T080103Z
LAST-MODIFIED:20190722T080149Z
UID:5598-1563753600-1563839999@ibc-naas.com
SUMMARY:Приймаються замовлення на сорти озимої пшениці під урожай 2020 року
DESCRIPTION:Приймаються замовлення на сорти озимої під урожай 2020 року\nУ наявності наступні сорти:\n    – Білоцерківська напівкарликова.\n    – Щедра нива.\n    – Оберіг миронівський.\n    – Статна.\n    – Фермерка.\nДетальніше\n
URL:https://ibc-naas.com/event/%d0%bf%d1%80%d0%b8%d0%b9%d0%bc%d0%b0%d1%8e%d1%82%d1%8c%d1%81%d1%8f-%d0%b7%d0%b0%d0%bc%d0%be%d0%b2%d0%bb%d0%b5%d0%bd%d0%bd%d1%8f-%d0%bd%d0%b0-%d1%81%d0%be%d1%80%d1%82%d0%b8-%d0%be%d0%b7%d0%b8%d0%bc/
LOCATION:Інститут луб’яних культур\, вул. Терещенків 45\, Глухів\, 41400\, Ukraine
ORGANIZER;CN="%D0%86%D0%BD%D1%81%D1%82%D0%B8%D1%82%D1%83%D1%82%20%D0%BB%D1%83%D0%B1%27%D1%8F%D0%BD%D0%B8%D1%85%20%D0%BA%D1%83%D0%BB%D1%8C%D1%82%D1%83%D1%80":MAILTO:ibc1931@ukr.net
END:VEVENT
END:VCALENDAR